BEGIN:VCALENDAR
VERSION:2.0
PRODID:-//Phillip Wain - ECPv6.15.20//NONSGML v1.0//EN
CALSCALE:GREGORIAN
METHOD:PUBLISH
X-ORIGINAL-URL:https://phillipwain-thailand.co.th
X-WR-CALDESC:Events for Phillip Wain
REFRESH-INTERVAL;VALUE=DURATION:PT1H
X-Robots-Tag:noindex
X-PUBLISHED-TTL:PT1H
BEGIN:VTIMEZONE
TZID:UTC
BEGIN:STANDARD
TZOFFSETFROM:+0000
TZOFFSETTO:+0000
TZNAME:UTC
DTSTART:20270101T000000
END:STANDARD
END:VTIMEZONE
BEGIN:VEVENT
DTSTART;TZID=UTC:20280520T090000
DTEND;TZID=UTC:20280526T170000
DTSTAMP:20260425T000458
CREATED:20240905T045151Z
LAST-MODIFIED:20240912T232306Z
UID:5443-1842426000-1842973200@phillipwain-thailand.co.th
SUMMARY:20 – 26 May 2024
DESCRIPTION:15 – 21 July 2024				\n				\n				\n				\n									Update Fitness Training Class Schedule between 15 – 21 July 2024 ** ได้ปรับเวลาเบรคระหว่างคลาส จาก 30 นาที เป็น 15 นาที ในบางช่วงเวลา** คลิ๊กเพื่ออ่านรายละเอียดแต่ละคลาสเพิ่มเติม >>> https://shorturl.at/cmOU9 สอบถามข้อมูลหรือติดตามข่าวสารเพิ่มเติม LINE OA : @phillipwainth (มี@) หรือกดลิงค์ https://bit.ly/3xOKCA8 Facebook: Phillip Wain Thailand Instagram: phillipwain_thailand ————————————————- Phillip Wain Club ฟิลิป เวน คลับราชประสงค์ (อาคารเกษรอัมรินทร์ ชั้น 19) ฟิลิป เวน คลับลาดพร้าว (ศูนย์การค้าเซ็นทรัล พลาซ่า ลาดพร้าว ชั้น 12A) 								\n				\n				\n		\n				\n				\n																\n															\n															\n				\n				\n				\n																\n															\n															\n				\n				\n					\n				\n				\n						\n					\n			\n						\n				\n					\n\n			\n				\n					Previous \n					\n					01 - 07 July 2024\n					\n				\n\n			\n						\n                \n				\n					\n					Not available to show!
URL:https://phillipwain-thailand.co.th/event/20-26-may-2024/
LOCATION:Jasmin
CATEGORIES:Gym Schedule
ATTACH;FMTTYPE=image/jpeg:https://phillipwain-thailand.co.th/wp-content/uploads/2024/09/Gym-Schedule-20-26-May-2024__Phillip-Wain-1.jpg
END:VEVENT
END:VCALENDAR